BEGIN:VCALENDAR
VERSION:2.0
PRODID:-//demosphere.net//NONSGML kigkonsult.se iCalcreator 2.22.1//
METHOD:REQUEST
X-WR-TIMEZONE:Europe/Paris
BEGIN:VEVENT
UID:https://safe.tarn.demosphere.net/rv/25032
DTSTAMP:20260418T180000Z
DESCRIPTION:plus d'infos sur : https://safe.tarn.demosphere.net/rv/25032
DTSTART:20260418T180000Z
DTEND:20260418T190000Z
GEO:+43.935016;+2.145696
LOCATION:Albi\, \nLe B.A.R \n10\, rue Porta \n81000 Albi
SUMMARY:Concert LOVATARAXX au B.A.R !!
URL:https://safe.tarn.demosphere.net/rv/25032
END:VEVENT
END:VCALENDAR
