BEGIN:VCALENDAR
VERSION:2.0
PRODID:-//demosphere.net//NONSGML kigkonsult.se iCalcreator 2.22.1//
METHOD:REQUEST
X-WR-TIMEZONE:Europe/Paris
BEGIN:VEVENT
UID:https://safe.tarn.demosphere.net/rv/25030
DTSTAMP:20260423T180000Z
DESCRIPTION:plus d'infos sur : https://safe.tarn.demosphere.net/rv/25030
DTSTART:20260423T180000Z
DTEND:20260423T190000Z
LOCATION:Visioconf\, \nEn visio
SUMMARY:temps de parole Acceptation de l'identité de genre
URL:https://safe.tarn.demosphere.net/rv/25030
END:VEVENT
END:VCALENDAR
