BEGIN:VCALENDAR
VERSION:2.0
PRODID:-//demosphere.net//NONSGML kigkonsult.se iCalcreator 2.22.1//
METHOD:REQUEST
X-WR-TIMEZONE:Europe/Paris
BEGIN:VEVENT
UID:https://safe.tarn.demosphere.net/rv/25029
DTSTAMP:20260424T160000Z
DESCRIPTION:plus d'infos sur : https://safe.tarn.demosphere.net/rv/25029
DTSTART:20260424T160000Z
DTEND:20260424T170000Z
GEO:+44.055321;+1.664531
LOCATION:Bruniquel\, \nChâteau de Bruniquel\,
SUMMARY:Châteaux de Bruniquel : l'ascalaphe soufré \; exposition photos et 
 conférence débat
URL:https://safe.tarn.demosphere.net/rv/25029
END:VEVENT
END:VCALENDAR
