BEGIN:VCALENDAR
VERSION:2.0
PRODID:-//demosphere.net//NONSGML kigkonsult.se iCalcreator 2.22.1//
METHOD:REQUEST
X-WR-TIMEZONE:Europe/Paris
BEGIN:VEVENT
UID:https://safe.tarn.demosphere.net/rv/25028
DTSTAMP:20260510T150000Z
DESCRIPTION:plus d'infos sur : https://safe.tarn.demosphere.net/rv/25028
DTSTART:20260510T150000Z
DTEND:20260510T160000Z
LOCATION:Monvalen\, \nEglise Saint-Martin\, 131 chemin de l'église\, 81630 
 Montvalen
SUMMARY:Montvalen Concert chœur féminin Carminae XXI
URL:https://safe.tarn.demosphere.net/rv/25028
END:VEVENT
END:VCALENDAR
