BEGIN:VCALENDAR
VERSION:2.0
PRODID:-//demosphere.net//NONSGML kigkonsult.se iCalcreator 2.22.1//
METHOD:REQUEST
X-WR-TIMEZONE:Europe/Paris
BEGIN:VEVENT
UID:https://safe.tarn.demosphere.net/rv/25026
DTSTAMP:20260510T060000Z
DESCRIPTION:plus d'infos sur : https://safe.tarn.demosphere.net/rv/25026
DTSTART:20260510T060000Z
DTEND:20260510T070000Z
LOCATION:Montels\, \nPlace de la mairie
SUMMARY:Floralies de Montels et expositions artistiques
URL:https://safe.tarn.demosphere.net/rv/25026
END:VEVENT
END:VCALENDAR
