BEGIN:VCALENDAR
VERSION:2.0
PRODID:-//demosphere.net//NONSGML kigkonsult.se iCalcreator 2.22.1//
METHOD:REQUEST
X-WR-TIMEZONE:Europe/Paris
BEGIN:VEVENT
UID:https://safe.tarn.demosphere.net/rv/25023
DTSTAMP:20260509T180000Z
DESCRIPTION:plus d'infos sur : https://safe.tarn.demosphere.net/rv/25023
DTSTART:20260509T180000Z
DTEND:20260509T190000Z
GEO:+43.608505;+2.237092
LOCATION:Castres\, \nCafé Le Jean Jaurès \n37\, Boulevardd Jean Jaurès \n81
 100 Castres
SUMMARY:Concert Reggae acoustique LEO (Raspigaous) + Dj Sets
URL:https://safe.tarn.demosphere.net/rv/25023
END:VEVENT
END:VCALENDAR
