BEGIN:VCALENDAR
VERSION:2.0
PRODID:-//demosphere.net//NONSGML kigkonsult.se iCalcreator 2.22.1//
METHOD:REQUEST
X-WR-TIMEZONE:Europe/Paris
BEGIN:VEVENT
UID:https://safe.tarn.demosphere.net/rv/25021
DTSTAMP:20260801T123000Z
DESCRIPTION:plus d'infos sur : https://safe.tarn.demosphere.net/rv/25021
DTSTART:20260801T123000Z
DTEND:20260801T133000Z
GEO:+44.015872;+2.14091
LOCATION:Le Garric\, \nEspace de loisirs Cap Découverte 81450 Le Garric
SUMMARY:Festival 13ᵉ édition de l’Xtreme Fest
URL:https://safe.tarn.demosphere.net/rv/25021
END:VEVENT
END:VCALENDAR
