BEGIN:VCALENDAR
VERSION:2.0
PRODID:-//demosphere.net//NONSGML kigkonsult.se iCalcreator 2.22.1//
METHOD:REQUEST
X-WR-TIMEZONE:Europe/Paris
BEGIN:VEVENT
UID:https://safe.tarn.demosphere.net/rv/25010
DTSTAMP:20260912T170000Z
DESCRIPTION:plus d'infos sur : https://safe.tarn.demosphere.net/rv/25010
DTSTART:20260912T170000Z
DTEND:20260912T180000Z
LOCATION:labastide-Gabausse\, \nLabastide-Gabausse (basse)
SUMMARY:Dernière étape du Ségala Music Tour 2026
URL:https://safe.tarn.demosphere.net/rv/25010
END:VEVENT
END:VCALENDAR
