BEGIN:VCALENDAR
VERSION:2.0
PRODID:-//demosphere.net//NONSGML kigkonsult.se iCalcreator 2.22.1//
METHOD:REQUEST
X-WR-TIMEZONE:Europe/Paris
BEGIN:VEVENT
UID:https://safe.tarn.demosphere.net/rv/25008
DTSTAMP:20260718T170000Z
DESCRIPTION:plus d'infos sur : https://safe.tarn.demosphere.net/rv/25008
DTSTART:20260718T170000Z
DTEND:20260718T180000Z
LOCATION:Valderiès\, \nSalle communale \n81350 Valdériès
SUMMARY:Troisième étape du Ségala Music Tour
URL:https://safe.tarn.demosphere.net/rv/25008
END:VEVENT
END:VCALENDAR
