BEGIN:VCALENDAR
VERSION:2.0
PRODID:-//demosphere.net//NONSGML kigkonsult.se iCalcreator 2.22.1//
METHOD:REQUEST
X-WR-TIMEZONE:Europe/Paris
BEGIN:VEVENT
UID:https://safe.tarn.demosphere.net/rv/25007
DTSTAMP:20260509T120000Z
DESCRIPTION:plus d'infos sur : https://safe.tarn.demosphere.net/rv/25007
DTSTART:20260509T120000Z
DTEND:20260509T130000Z
GEO:+44.015872;+2.14091
LOCATION:Le Garric\, \nEspace de loisirs Cap Découverte 81450 Le Garric
SUMMARY:Cap sur l’été ! Coup d’envoi de la saison musicale et festive en Sé
 gala Tarnais
URL:https://safe.tarn.demosphere.net/rv/25007
END:VEVENT
END:VCALENDAR
