BEGIN:VCALENDAR
VERSION:2.0
PRODID:-//demosphere.net//NONSGML kigkonsult.se iCalcreator 2.22.1//
METHOD:REQUEST
X-WR-TIMEZONE:Europe/Paris
BEGIN:VEVENT
UID:https://safe.tarn.demosphere.net/rv/25006
DTSTAMP:20260516T170000Z
DESCRIPTION:plus d'infos sur : https://safe.tarn.demosphere.net/rv/25006
DTSTART:20260516T170000Z
DTEND:20260516T180000Z
GEO:+44.143149;+2.1687
LOCATION:Mirandol Bourgnounac\, \nmirandol bourgnounac
SUMMARY:L’Estafette s’installe à Mirandol Bourgnounac pour la première du S
 égala Music Tour !
URL:https://safe.tarn.demosphere.net/rv/25006
END:VEVENT
END:VCALENDAR
