BEGIN:VCALENDAR
VERSION:2.0
PRODID:-//demosphere.net//NONSGML kigkonsult.se iCalcreator 2.22.1//
METHOD:REQUEST
X-WR-TIMEZONE:Europe/Paris
BEGIN:VEVENT
UID:https://safe.tarn.demosphere.net/rv/25003
DTSTAMP:20260423T163000Z
DESCRIPTION:plus d'infos sur : https://safe.tarn.demosphere.net/rv/25003
DTSTART:20260423T163000Z
DTEND:20260423T173000Z
GEO:+43.705878;+2.137737
LOCATION:Lautrec\, \nCafé Plum \n12\, rue Lengouzy \n81440 Lautrec
SUMMARY:Arpentage // « Le Dessin et les Mots »
URL:https://safe.tarn.demosphere.net/rv/25003
END:VEVENT
END:VCALENDAR
