BEGIN:VCALENDAR
VERSION:2.0
PRODID:-//demosphere.net//NONSGML kigkonsult.se iCalcreator 2.22.1//
METHOD:REQUEST
X-WR-TIMEZONE:Europe/Paris
BEGIN:VEVENT
UID:https://safe.tarn.demosphere.net/rv/25002
DTSTAMP:20260422T133000Z
DESCRIPTION:plus d'infos sur : https://safe.tarn.demosphere.net/rv/25002
DTSTART:20260422T133000Z
DTEND:20260422T143000Z
GEO:+43.705878;+2.137737
LOCATION:Lautrec\, \nCafé Plum \n12\, rue Lengouzy \n81440 Lautrec
SUMMARY:« Citron » de la Cie Le Bruit des Casseroles // spectacle marionnet
 te
URL:https://safe.tarn.demosphere.net/rv/25002
END:VEVENT
END:VCALENDAR
