BEGIN:VCALENDAR
VERSION:2.0
PRODID:-//demosphere.net//NONSGML kigkonsult.se iCalcreator 2.22.1//
METHOD:REQUEST
X-WR-TIMEZONE:Europe/Paris
BEGIN:VEVENT
UID:https://safe.tarn.demosphere.net/rv/25001
DTSTAMP:20260426T080000Z
DESCRIPTION:plus d'infos sur : https://safe.tarn.demosphere.net/rv/25001
DTSTART:20260426T080000Z
DTEND:20260426T090000Z
GEO:+43.705878;+2.137737
LOCATION:Lautrec\, \nCafé Plum \n12\, rue Lengouzy \n81440 Lautrec
SUMMARY:VISÙ #2 / Festival de l’IMAGE et des ARTS VISUELS JOUR 3
URL:https://safe.tarn.demosphere.net/rv/25001
END:VEVENT
END:VCALENDAR
