BEGIN:VCALENDAR
VERSION:2.0
PRODID:-//demosphere.net//NONSGML kigkonsult.se iCalcreator 2.22.1//
METHOD:REQUEST
X-WR-TIMEZONE:Europe/Paris
BEGIN:VEVENT
UID:https://safe.tarn.demosphere.net/rv/24997
DTSTAMP:20260417T170000Z
DESCRIPTION:plus d'infos sur : https://safe.tarn.demosphere.net/rv/24997
DTSTART:20260417T170000Z
DTEND:20260417T180000Z
GEO:+43.705878;+2.137737
LOCATION:Lautrec\, \nCafé Plum \n12\, rue Lengouzy \n81440 Lautrec
SUMMARY:Soirée de l’association Libre Ensemble // Exposition et projection 
 documentaire
URL:https://safe.tarn.demosphere.net/rv/24997
END:VEVENT
END:VCALENDAR
