BEGIN:VCALENDAR
VERSION:2.0
PRODID:-//demosphere.net//NONSGML kigkonsult.se iCalcreator 2.22.1//
METHOD:REQUEST
X-WR-TIMEZONE:Europe/Paris
BEGIN:VEVENT
UID:https://safe.tarn.demosphere.net/rv/24996
DTSTAMP:20260531T070000Z
DESCRIPTION:plus d'infos sur : https://safe.tarn.demosphere.net/rv/24996
DTSTART:20260531T070000Z
DTEND:20260531T080000Z
GEO:+43.684712;+2.854679
LOCATION:Murat sur Vèbre\, \nSalle des fêtes \n81320 Murat sur Vèbre
SUMMARY:Sur les traces des explorateurs avec la Micro-Folie Ô Coeur d'Occit
 anie
URL:https://safe.tarn.demosphere.net/rv/24996
END:VEVENT
END:VCALENDAR
