BEGIN:VCALENDAR
VERSION:2.0
PRODID:-//demosphere.net//NONSGML kigkonsult.se iCalcreator 2.22.1//
METHOD:REQUEST
X-WR-TIMEZONE:Europe/Paris
BEGIN:VEVENT
UID:https://safe.tarn.demosphere.net/rv/24994
DTSTAMP:20260411T073000Z
DESCRIPTION:plus d'infos sur : https://safe.tarn.demosphere.net/rv/24994
DTSTART:20260411T073000Z
DTEND:20260411T083000Z
GEO:+43.936814;+2.139923
LOCATION:Albi\, \nJardins familiaux de la Madeleine \n26\, passage Valentin
  Hauy \n81000 ALbi
SUMMARY:Atelier Jardonot - La gestion de l'eau dans les jardins
URL:https://safe.tarn.demosphere.net/rv/24994
END:VEVENT
END:VCALENDAR
