BEGIN:VCALENDAR
VERSION:2.0
PRODID:-//demosphere.net//NONSGML kigkonsult.se iCalcreator 2.22.1//
METHOD:REQUEST
X-WR-TIMEZONE:Europe/Paris
BEGIN:VEVENT
UID:https://safe.tarn.demosphere.net/rv/24990
DTSTAMP:20260426T080000Z
DESCRIPTION:plus d'infos sur : https://safe.tarn.demosphere.net/rv/24990
DTSTART:20260426T080000Z
DTEND:20260426T090000Z
LOCATION:Gaillac\, \nAncienne école des Fédies \n610\, chemin de Saint-Sauv
 eur \n81600 Gaillac
SUMMARY:Arpentage de Zoopolis\, une théorie politique du droit des animaux
URL:https://safe.tarn.demosphere.net/rv/24990
END:VEVENT
END:VCALENDAR
