BEGIN:VCALENDAR
VERSION:2.0
PRODID:-//demosphere.net//NONSGML kigkonsult.se iCalcreator 2.22.1//
METHOD:REQUEST
X-WR-TIMEZONE:Europe/Paris
BEGIN:VEVENT
UID:https://safe.tarn.demosphere.net/rv/24939
DTSTAMP:20260402T170000Z
DESCRIPTION:plus d'infos sur : https://safe.tarn.demosphere.net/rv/24939
DTSTART:20260402T170000Z
DTEND:20260402T180000Z
GEO:+43.705878;+2.137737
LOCATION:Lautrec\, \nCafé Plum \n12\, rue Lengouzy \n81440 Lautrec
SUMMARY:Rencontre avec l’artiste KAM & dévernissage de l'exposition 'Migrat
 ion et plus encore'
URL:https://safe.tarn.demosphere.net/rv/24939
END:VEVENT
END:VCALENDAR
