BEGIN:VCALENDAR
VERSION:2.0
PRODID:-//demosphere.net//NONSGML kigkonsult.se iCalcreator 2.22.1//
METHOD:REQUEST
X-WR-TIMEZONE:Europe/Paris
BEGIN:VEVENT
UID:https://safe.tarn.demosphere.net/rv/24840
DTSTAMP:20260328T190000Z
DESCRIPTION:plus d'infos sur : https://safe.tarn.demosphere.net/rv/24840
DTSTART:20260328T190000Z
DTEND:20260328T200000Z
GEO:+43.705878;+2.137737
LOCATION:Lautrec\, \nCafé Plum \n12\, rue Lengouzy \n81440 Lautrec
SUMMARY:Karaoké Project // Un karaoké cabaret par la Cie du Feu au Café Plù
 m
URL:https://safe.tarn.demosphere.net/rv/24840
END:VEVENT
END:VCALENDAR
