BEGIN:VCALENDAR
VERSION:2.0
PRODID:-//demosphere.net//NONSGML kigkonsult.se iCalcreator 2.22.1//
METHOD:REQUEST
X-WR-TIMEZONE:Europe/Paris
BEGIN:VEVENT
UID:https://safe.tarn.demosphere.net/rv/24839
DTSTAMP:20260328T140000Z
DESCRIPTION:plus d'infos sur : https://safe.tarn.demosphere.net/rv/24839
DTSTART:20260328T140000Z
DTEND:20260328T150000Z
GEO:+43.705878;+2.137737
LOCATION:Lautrec\, \nCafé Plum \n12\, rue Lengouzy \n81440 Lautrec
SUMMARY:Spectacle « 80m2 » de la Cie OpUS // Théâtre à la sauvette
URL:https://safe.tarn.demosphere.net/rv/24839
END:VEVENT
END:VCALENDAR
