BEGIN:VCALENDAR
VERSION:2.0
PRODID:-//demosphere.net//NONSGML kigkonsult.se iCalcreator 2.22.1//
METHOD:REQUEST
X-WR-TIMEZONE:Europe/Paris
BEGIN:VEVENT
UID:https://safe.tarn.demosphere.net/rv/24838
DTSTAMP:20260328T100000Z
DESCRIPTION:plus d'infos sur : https://safe.tarn.demosphere.net/rv/24838
DTSTART:20260328T100000Z
DTEND:20260328T110000Z
GEO:+43.705878;+2.137737
LOCATION:Lautrec\, \nCafé Plum \n12\, rue Lengouzy \n81440 Lautrec
SUMMARY:Rencontre librairie avec Lou Achard « On Déserte ! » au Café Plùm
URL:https://safe.tarn.demosphere.net/rv/24838
END:VEVENT
END:VCALENDAR
