BEGIN:VCALENDAR
VERSION:2.0
PRODID:-//demosphere.net//NONSGML kigkonsult.se iCalcreator 2.22.1//
METHOD:REQUEST
X-WR-TIMEZONE:Europe/Paris
BEGIN:VEVENT
UID:https://safe.tarn.demosphere.net/rv/24836
DTSTAMP:20260321T200000Z
DESCRIPTION:plus d'infos sur : https://safe.tarn.demosphere.net/rv/24836
DTSTART:20260321T200000Z
DTEND:20260321T210000Z
GEO:+43.705878;+2.137737
LOCATION:Lautrec\, \nCafé Plum \n12\, rue Lengouzy \n81440 Lautrec
SUMMARY:Concert de Mymytchell // Chanson poétique et politique
URL:https://safe.tarn.demosphere.net/rv/24836
END:VEVENT
END:VCALENDAR
