BEGIN:VCALENDAR
VERSION:2.0
PRODID:-//demosphere.net//NONSGML kigkonsult.se iCalcreator 2.22.1//
METHOD:REQUEST
X-WR-TIMEZONE:Europe/Paris
BEGIN:VEVENT
UID:https://safe.tarn.demosphere.net/rv/24835
DTSTAMP:20260320T180000Z
DESCRIPTION:plus d'infos sur : https://safe.tarn.demosphere.net/rv/24835
DTSTART:20260320T180000Z
DTEND:20260320T190000Z
GEO:+43.705878;+2.137737
LOCATION:Lautrec\, \nCafé Plum \n12\, rue Lengouzy \n81440 Lautrec
SUMMARY:Soirée des bénévoles du Café Plùm (ouvert à toustes)
URL:https://safe.tarn.demosphere.net/rv/24835
END:VEVENT
END:VCALENDAR
