BEGIN:VCALENDAR
VERSION:2.0
PRODID:-//demosphere.net//NONSGML kigkonsult.se iCalcreator 2.22.1//
METHOD:REQUEST
X-WR-TIMEZONE:Europe/Paris
BEGIN:VEVENT
UID:https://safe.tarn.demosphere.net/rv/24834
DTSTAMP:20260319T173000Z
DESCRIPTION:plus d'infos sur : https://safe.tarn.demosphere.net/rv/24834
DTSTART:20260319T173000Z
DTEND:20260319T183000Z
GEO:+43.705878;+2.137737
LOCATION:Lautrec\, \nCafé Plum \n12\, rue Lengouzy \n81440 Lautrec
SUMMARY:Arpentage // 'Voracisme\,Trois siècles de suprématie blanche dans l
 ’assiette'
URL:https://safe.tarn.demosphere.net/rv/24834
END:VEVENT
END:VCALENDAR
