BEGIN:VCALENDAR
VERSION:2.0
PRODID:-//demosphere.net//NONSGML kigkonsult.se iCalcreator 2.22.1//
METHOD:REQUEST
X-WR-TIMEZONE:Europe/Paris
BEGIN:VEVENT
UID:https://safe.tarn.demosphere.net/rv/24798
DTSTAMP:20260319T193000Z
DESCRIPTION:plus d'infos sur : https://safe.tarn.demosphere.net/rv/24798
DTSTART:20260319T193000Z
DTEND:20260319T203000Z
GEO:+43.602314;+2.253392
LOCATION:Castres\, \nLa Table des Ateliers \n22\, rue Mérigonde \n81100 Cas
 tres
SUMMARY:Concert Pop Rock
URL:https://safe.tarn.demosphere.net/rv/24798
END:VEVENT
END:VCALENDAR
