BEGIN:VCALENDAR
VERSION:2.0
PRODID:-//demosphere.net//NONSGML kigkonsult.se iCalcreator 2.22.1//
METHOD:REQUEST
X-WR-TIMEZONE:Europe/Paris
BEGIN:VEVENT
UID:https://safe.tarn.demosphere.net/rv/24747
DTSTAMP:20260306T200000Z
DESCRIPTION:plus d'infos sur : https://safe.tarn.demosphere.net/rv/24747
DTSTART:20260306T200000Z
DTEND:20260306T210000Z
GEO:+43.705878;+2.137737
LOCATION:Lautrec\, \nCafé Plum \n12\, rue Lengouzy \n81440 Lautrec
SUMMARY:COLD CUTS de Linda McLean // WEEK-END FÉMINISTE du Café Plùm
URL:https://safe.tarn.demosphere.net/rv/24747
END:VEVENT
END:VCALENDAR
