BEGIN:VCALENDAR
VERSION:2.0
PRODID:-//demosphere.net//NONSGML kigkonsult.se iCalcreator 2.22.1//
METHOD:REQUEST
X-WR-TIMEZONE:Europe/Paris
BEGIN:VEVENT
UID:https://safe.tarn.demosphere.net/rv/2456
DTSTAMP:20140609T070000Z
DESCRIPTION:plus d'infos sur : https://safe.tarn.demosphere.net/rv/2456
DTSTART:20140609T070000Z
DTEND:20140609T080000Z
GEO:+43.759597;+1.988911
LOCATION:Graulhet\, \nParc de la Bousquetarié \nGraulhet
SUMMARY:Foire biologique Biocybèle -  Dimanche 8  et Lundi 9 juin
URL:https://safe.tarn.demosphere.net/rv/2456
END:VEVENT
END:VCALENDAR
