BEGIN:VCALENDAR
VERSION:2.0
PRODID:-//demosphere.net//NONSGML kigkonsult.se iCalcreator 2.22.1//
METHOD:REQUEST
X-WR-TIMEZONE:Europe/Paris
BEGIN:VEVENT
UID:https://safe.tarn.demosphere.net/rv/2302
DTSTAMP:20140417T080000Z
DESCRIPTION:plus d'infos sur : https://safe.tarn.demosphere.net/rv/2302
DTSTART:20140417T080000Z
DTEND:20140417T090000Z
GEO:+43.759597;+1.988911
LOCATION:Graulhet\, \nParc de la Bousquetarié \nGraulhet
SUMMARY:Maryel\, Céramiste\, recherche habitation à louer urgent
URL:https://safe.tarn.demosphere.net/rv/2302
END:VEVENT
END:VCALENDAR
