BEGIN:VCALENDAR
VERSION:2.0
PRODID:-//demosphere.net//NONSGML kigkonsult.se iCalcreator 2.22.1//
METHOD:REQUEST
X-WR-TIMEZONE:Europe/Paris
BEGIN:VEVENT
UID:https://safe.tarn.demosphere.net/rv/23008
DTSTAMP:20250518T143000Z
DESCRIPTION:plus d'infos sur : https://safe.tarn.demosphere.net/rv/23008
DTSTART:20250518T143000Z
DTEND:20250518T153000Z
GEO:+44.055321;+1.664531
LOCATION:Bruniquel\, \nChâteau de Bruniquel\,
SUMMARY:Festival Gresinhòl
URL:https://safe.tarn.demosphere.net/rv/23008
END:VEVENT
END:VCALENDAR
