BEGIN:VCALENDAR
VERSION:2.0
PRODID:-//demosphere.net//NONSGML kigkonsult.se iCalcreator 2.22.1//
METHOD:REQUEST
X-WR-TIMEZONE:Europe/Paris
BEGIN:VEVENT
UID:https://safe.tarn.demosphere.net/rv/22977
DTSTAMP:20250517T080000Z
DESCRIPTION:plus d'infos sur : https://safe.tarn.demosphere.net/rv/22977
DTSTART:20250517T080000Z
DTEND:20250517T090000Z
GEO:+43.977293;+2.294829
LOCATION:Andouque\, \nLa Passemarié \n81350 Andouque
SUMMARY:'Bien dans ta ménopause' : cercle de parole\, ateliers pratiques\, 
 naturopathie\, nutrition…
URL:https://safe.tarn.demosphere.net/rv/22977
END:VEVENT
END:VCALENDAR
