BEGIN:VCALENDAR
VERSION:2.0
PRODID:-//demosphere.net//NONSGML kigkonsult.se iCalcreator 2.22.1//
METHOD:REQUEST
X-WR-TIMEZONE:Europe/Paris
BEGIN:VEVENT
UID:https://safe.tarn.demosphere.net/rv/22937
DTSTAMP:20250515T133000Z
DESCRIPTION:plus d'infos sur : https://safe.tarn.demosphere.net/rv/22937
DTSTART:20250515T133000Z
DTEND:20250515T143000Z
LOCATION:Valderiès\, \nSalle communale \n81350 Valdériès
SUMMARY:VIVES VOIX installation immersive de la Cie CAVALUNA
URL:https://safe.tarn.demosphere.net/rv/22937
END:VEVENT
END:VCALENDAR
