BEGIN:VCALENDAR
VERSION:2.0
PRODID:-//demosphere.net//NONSGML kigkonsult.se iCalcreator 2.22.1//
METHOD:REQUEST
X-WR-TIMEZONE:Europe/Paris
BEGIN:VEVENT
UID:https://safe.tarn.demosphere.net/rv/22889
DTSTAMP:20250510T080000Z
DESCRIPTION:plus d'infos sur : https://safe.tarn.demosphere.net/rv/22889
DTSTART:20250510T080000Z
DTEND:20250510T090000Z
LOCATION:Gaillac\, \nAncienne école des Fédies \n610\, chemin de Saint-Sauv
 eur \n81600 Gaillac
SUMMARY:Arpentage sur les masculinités
URL:https://safe.tarn.demosphere.net/rv/22889
END:VEVENT
END:VCALENDAR
