BEGIN:VCALENDAR
VERSION:2.0
PRODID:-//demosphere.net//NONSGML kigkonsult.se iCalcreator 2.22.1//
METHOD:REQUEST
X-WR-TIMEZONE:Europe/Paris
BEGIN:VEVENT
UID:https://safe.tarn.demosphere.net/rv/22850
DTSTAMP:20250328T154500Z
DESCRIPTION:plus d'infos sur : https://safe.tarn.demosphere.net/rv/22850
DTSTART:20250328T154500Z
DTEND:20250328T164500Z
GEO:+44.143149;+2.1687
LOCATION:Mirandol Bourgnounac\, \nmirandol bourgnounac
SUMMARY:Clôture du Printemps des Poètes à Mirandol
URL:https://safe.tarn.demosphere.net/rv/22850
END:VEVENT
END:VCALENDAR
