BEGIN:VCALENDAR
VERSION:2.0
PRODID:-//demosphere.net//NONSGML kigkonsult.se iCalcreator 2.22.1//
METHOD:REQUEST
X-WR-TIMEZONE:Europe/Paris
BEGIN:VEVENT
UID:https://safe.tarn.demosphere.net/rv/22819
DTSTAMP:20250324T163000Z
DESCRIPTION:plus d'infos sur : https://safe.tarn.demosphere.net/rv/22819
DTSTART:20250324T163000Z
DTEND:20250324T173000Z
GEO:+44.143149;+2.1687
LOCATION:Mirandol Bourgnounac\, \nmirandol bourgnounac
SUMMARY:Le marché de Mirandol sera volcanique ( aussi !!!)
URL:https://safe.tarn.demosphere.net/rv/22819
END:VEVENT
END:VCALENDAR
