BEGIN:VCALENDAR
VERSION:2.0
PRODID:-//demosphere.net//NONSGML kigkonsult.se iCalcreator 2.22.1//
METHOD:REQUEST
X-WR-TIMEZONE:Europe/Paris
BEGIN:VEVENT
UID:https://safe.tarn.demosphere.net/rv/22778
DTSTAMP:20250323T070000Z
DESCRIPTION:plus d'infos sur : https://safe.tarn.demosphere.net/rv/22778
DTSTART:20250323T070000Z
DTEND:20250323T080000Z
LOCATION:Montels\, \nPlace de la mairie
SUMMARY:Floralies de Montels
URL:https://safe.tarn.demosphere.net/rv/22778
END:VEVENT
END:VCALENDAR
