BEGIN:VCALENDAR
VERSION:2.0
PRODID:-//demosphere.net//NONSGML kigkonsult.se iCalcreator 2.22.1//
METHOD:REQUEST
X-WR-TIMEZONE:Europe/Paris
BEGIN:VEVENT
UID:https://safe.tarn.demosphere.net/rv/214
DTSTAMP:20120505T130000Z
DESCRIPTION:plus d'infos sur : https://safe.tarn.demosphere.net/rv/214
DTSTART:20120505T130000Z
DTEND:20120505T140000Z
GEO:+43.684712;+2.854679
LOCATION:Murat sur Vèbre\, \nSalle des fêtes \n81320 Murat sur Vèbre
SUMMARY:Conférence-débat : L'agriculteur premier acteur de santé
URL:https://safe.tarn.demosphere.net/rv/214
END:VEVENT
END:VCALENDAR
