BEGIN:VCALENDAR
VERSION:2.0
PRODID:-//demosphere.net//NONSGML kigkonsult.se iCalcreator 2.22.1//
METHOD:REQUEST
X-WR-TIMEZONE:Europe/Paris
BEGIN:VEVENT
UID:https://safe.tarn.demosphere.net/rv/21324
DTSTAMP:20240716T080000Z
DESCRIPTION:plus d'infos sur : https://safe.tarn.demosphere.net/rv/21324
DTSTART:20240716T080000Z
DTEND:20240716T090000Z
GEO:+44.147623;+1.96703
LOCATION:Laguépie\, \nVillage de Laguépie\, Tarn-et-Garonne (82)
SUMMARY:RADIO LA GUÉPIA ! Ateliers radio les pieds dans l'eau (ou presque).
URL:https://safe.tarn.demosphere.net/rv/21324
END:VEVENT
END:VCALENDAR
