BEGIN:VCALENDAR
VERSION:2.0
PRODID:-//demosphere.net//NONSGML kigkonsult.se iCalcreator 2.22.1//
METHOD:REQUEST
X-WR-TIMEZONE:Europe/Paris
BEGIN:VEVENT
UID:https://safe.tarn.demosphere.net/rv/21103
DTSTAMP:20240726T120000Z
DESCRIPTION:plus d'infos sur : https://safe.tarn.demosphere.net/rv/21103
DTSTART:20240726T120000Z
DTEND:20240726T130000Z
GEO:+44.015872;+2.14091
LOCATION:Le Garric\, \nEspace de loisirs Cap Découverte 81450 Le Garric
SUMMARY:Festival Xtreme Fest #11
URL:https://safe.tarn.demosphere.net/rv/21103
END:VEVENT
END:VCALENDAR
