BEGIN:VCALENDAR
VERSION:2.0
PRODID:-//demosphere.net//NONSGML kigkonsult.se iCalcreator 2.22.1//
METHOD:REQUEST
X-WR-TIMEZONE:Europe/Paris
BEGIN:VEVENT
UID:https://safe.tarn.demosphere.net/rv/21007
DTSTAMP:20240529T123000Z
DESCRIPTION:plus d'infos sur : https://safe.tarn.demosphere.net/rv/21007
DTSTART:20240529T123000Z
DTEND:20240529T133000Z
GEO:+43.748953;+2.264372
LOCATION:Montredon-Labessonnié\, \nLa ferme des Zazous \nLa Borie Maigre \n
 81360 Montredon-Labessonnié
SUMMARY:Sortie Famille : Balade contée et ludique au potager
URL:https://safe.tarn.demosphere.net/rv/21007
END:VEVENT
END:VCALENDAR
