BEGIN:VCALENDAR
VERSION:2.0
PRODID:-//demosphere.net//NONSGML kigkonsult.se iCalcreator 2.22.1//
METHOD:REQUEST
X-WR-TIMEZONE:Europe/Paris
BEGIN:VEVENT
UID:https://safe.tarn.demosphere.net/rv/20745
DTSTAMP:20240331T090000Z
DESCRIPTION:plus d'infos sur : https://safe.tarn.demosphere.net/rv/20745
DTSTART:20240331T090000Z
DTEND:20240331T100000Z
GEO:+43.748953;+2.264372
LOCATION:Montredon-Labessonnié\, \nLa ferme des Zazous \nLa Borie Maigre \n
 81360 Montredon-Labessonnié
SUMMARY:Journée Portes Ouvertes à la Ferme
URL:https://safe.tarn.demosphere.net/rv/20745
END:VEVENT
END:VCALENDAR
