BEGIN:VCALENDAR
VERSION:2.0
PRODID:-//demosphere.net//NONSGML kigkonsult.se iCalcreator 2.22.1//
METHOD:REQUEST
X-WR-TIMEZONE:Europe/Paris
BEGIN:VEVENT
UID:https://safe.tarn.demosphere.net/rv/20489
DTSTAMP:20240225T100000Z
DESCRIPTION:plus d'infos sur : https://safe.tarn.demosphere.net/rv/20489
DTSTART:20240225T100000Z
DTEND:20240225T110000Z
GEO:+43.748953;+2.264372
LOCATION:Montredon-Labessonnié\, \nLa ferme des Zazous \nLa Borie Maigre \n
 81360 Montredon-Labessonnié
SUMMARY:Salon à la ferme\, visite de la ferme Des zazous
URL:https://safe.tarn.demosphere.net/rv/20489
END:VEVENT
END:VCALENDAR
