BEGIN:VCALENDAR
VERSION:2.0
PRODID:-//demosphere.net//NONSGML kigkonsult.se iCalcreator 2.22.1//
METHOD:REQUEST
X-WR-TIMEZONE:Europe/Paris
BEGIN:VEVENT
UID:https://safe.tarn.demosphere.net/rv/20308
DTSTAMP:20240117T180000Z
DESCRIPTION:plus d'infos sur : https://safe.tarn.demosphere.net/rv/20308
DTSTART:20240117T180000Z
DTEND:20240117T190000Z
LOCATION:Visioconf\, \nEn visio
SUMMARY:Réunion publique de lancement du carnaval contre l’A69
URL:https://safe.tarn.demosphere.net/rv/20308
END:VEVENT
END:VCALENDAR
