BEGIN:VCALENDAR
VERSION:2.0
PRODID:-//demosphere.net//NONSGML kigkonsult.se iCalcreator 2.22.1//
METHOD:REQUEST
X-WR-TIMEZONE:Europe/Paris
BEGIN:VEVENT
UID:https://safe.tarn.demosphere.net/rv/19817
DTSTAMP:20231105T090000Z
DESCRIPTION:plus d'infos sur : https://safe.tarn.demosphere.net/rv/19817
DTSTART:20231105T090000Z
DTEND:20231105T100000Z
GEO:+43.904842;+2.14059
LOCATION:Albi\, \nQuartier de Ranteil \n3\, chemin de Ranteil \n81000 ALBI
SUMMARY:Ballade au cœur du patrimoine historique industriel de Ranteil
URL:https://safe.tarn.demosphere.net/rv/19817
END:VEVENT
END:VCALENDAR
