BEGIN:VCALENDAR
VERSION:2.0
PRODID:-//demosphere.net//NONSGML kigkonsult.se iCalcreator 2.22.1//
METHOD:REQUEST
X-WR-TIMEZONE:Europe/Paris
BEGIN:VEVENT
UID:https://safe.tarn.demosphere.net/rv/1960
DTSTAMP:20140115T190000Z
DESCRIPTION:plus d'infos sur : https://safe.tarn.demosphere.net/rv/1960
DTSTART:20140115T190000Z
DTEND:20140115T200000Z
GEO:+44.07285;+1.801892
LOCATION:Vaour\, \nA Vaour au gîte du Muret
SUMMARY:réunion à l'Appel du Collectif 'tant qu'il y aura des Bouilles'
URL:https://safe.tarn.demosphere.net/rv/1960
END:VEVENT
END:VCALENDAR
