BEGIN:VCALENDAR
VERSION:2.0
PRODID:-//demosphere.net//NONSGML kigkonsult.se iCalcreator 2.22.1//
METHOD:REQUEST
X-WR-TIMEZONE:Europe/Paris
BEGIN:VEVENT
UID:https://safe.tarn.demosphere.net/rv/19563
DTSTAMP:20230929T180000Z
DESCRIPTION:plus d'infos sur : https://safe.tarn.demosphere.net/rv/19563
DTSTART:20230929T180000Z
DTEND:20230929T190000Z
GEO:+43.977293;+2.294829
LOCATION:Andouque\, \nLa Passemarié 81350 Andouque
SUMMARY: Repas 'Célébrons l'automne'
URL:https://safe.tarn.demosphere.net/rv/19563
END:VEVENT
END:VCALENDAR
