BEGIN:VCALENDAR
VERSION:2.0
PRODID:-//demosphere.net//NONSGML kigkonsult.se iCalcreator 2.22.1//
METHOD:REQUEST
X-WR-TIMEZONE:Europe/Paris
BEGIN:VEVENT
UID:https://safe.tarn.demosphere.net/rv/19562
DTSTAMP:20231015T123000Z
DESCRIPTION:plus d'infos sur : https://safe.tarn.demosphere.net/rv/19562
DTSTART:20231015T123000Z
DTEND:20231015T133000Z
GEO:+43.977293;+2.294829
LOCATION:Andouque\, \nLa Passemarié \n81350 Andouque
SUMMARY:Balade découverte réalisation d un macérât de plantes sauvages
URL:https://safe.tarn.demosphere.net/rv/19562
END:VEVENT
END:VCALENDAR
