BEGIN:VCALENDAR
VERSION:2.0
PRODID:-//demosphere.net//NONSGML kigkonsult.se iCalcreator 2.22.1//
METHOD:REQUEST
X-WR-TIMEZONE:Europe/Paris
BEGIN:VEVENT
UID:https://safe.tarn.demosphere.net/rv/19560
DTSTAMP:20230926T153000Z
DESCRIPTION:plus d'infos sur : https://safe.tarn.demosphere.net/rv/19560
DTSTART:20230926T153000Z
DTEND:20230926T163000Z
GEO:+43.977293;+2.294829
LOCATION:Andouque\, \nLa Passemarié \n81350 Andouque
SUMMARY:Atelier  fabriquer son baume anti crève
URL:https://safe.tarn.demosphere.net/rv/19560
END:VEVENT
END:VCALENDAR
