BEGIN:VCALENDAR
VERSION:2.0
PRODID:-//demosphere.net//NONSGML kigkonsult.se iCalcreator 2.22.1//
METHOD:REQUEST
X-WR-TIMEZONE:Europe/Paris
BEGIN:VEVENT
UID:https://safe.tarn.demosphere.net/rv/19377
DTSTAMP:20230815T130000Z
DESCRIPTION:plus d'infos sur : https://safe.tarn.demosphere.net/rv/19377
DTSTART:20230815T130000Z
DTEND:20230815T140000Z
GEO:+43.748953;+2.264372
LOCATION:Montredon-Labessonnié\, \nLa ferme des Zazous \nLa Borie Maigre \n
 81360 Montredon-Labessonnié
SUMMARY:Les Mardis à la ferme
URL:https://safe.tarn.demosphere.net/rv/19377
END:VEVENT
END:VCALENDAR
