BEGIN:VCALENDAR
VERSION:2.0
PRODID:-//demosphere.net//NONSGML kigkonsult.se iCalcreator 2.22.1//
METHOD:REQUEST
X-WR-TIMEZONE:Europe/Paris
BEGIN:VEVENT
UID:https://safe.tarn.demosphere.net/rv/19348
DTSTAMP:20230723T170000Z
DESCRIPTION:plus d'infos sur : https://safe.tarn.demosphere.net/rv/19348
DTSTART:20230723T170000Z
DTEND:20230723T180000Z
GEO:+44.015872;+2.14091
LOCATION:Le Garric\, \nEspace de loisirs Cap Découverte 81450 Le Garric
SUMMARY:[L'ÉTÉ VAGABOND] 'Maiador' Cie Delá Praká
URL:https://safe.tarn.demosphere.net/rv/19348
END:VEVENT
END:VCALENDAR
